BEGIN:VCALENDAR
VERSION:2.0
PRODID:-//AfD Weiden | Kreisverband - ECPv6.15.18//NONSGML v1.0//EN
CALSCALE:GREGORIAN
METHOD:PUBLISH
X-ORIGINAL-URL:https://afd-weiden.de
X-WR-CALDESC:Veranstaltungen für AfD Weiden | Kreisverband
REFRESH-INTERVAL;VALUE=DURATION:PT1H
X-Robots-Tag:noindex
X-PUBLISHED-TTL:PT1H
BEGIN:VTIMEZONE
TZID:Europe/Berlin
BEGIN:DAYLIGHT
TZOFFSETFROM:+0100
TZOFFSETTO:+0200
TZNAME:CEST
DTSTART:20220327T010000
END:DAYLIGHT
BEGIN:STANDARD
TZOFFSETFROM:+0200
TZOFFSETTO:+0100
TZNAME:CET
DTSTART:20221030T010000
END:STANDARD
BEGIN:DAYLIGHT
TZOFFSETFROM:+0100
TZOFFSETTO:+0200
TZNAME:CEST
DTSTART:20230326T010000
END:DAYLIGHT
BEGIN:STANDARD
TZOFFSETFROM:+0200
TZOFFSETTO:+0100
TZNAME:CET
DTSTART:20231029T010000
END:STANDARD
BEGIN:DAYLIGHT
TZOFFSETFROM:+0100
TZOFFSETTO:+0200
TZNAME:CEST
DTSTART:20240331T010000
END:DAYLIGHT
BEGIN:STANDARD
TZOFFSETFROM:+0200
TZOFFSETTO:+0100
TZNAME:CET
DTSTART:20241027T010000
END:STANDARD
END:VTIMEZONE
BEGIN:VEVENT
DTSTART;TZID=Europe/Berlin:20230927T160000
DTEND;TZID=Europe/Berlin:20230927T180000
DTSTAMP:20260423T102232
CREATED:20230921T072037Z
LAST-MODIFIED:20230921T072037Z
UID:131862-1695830400-1695837600@afd-weiden.de
SUMMARY:Wenn das der Wähler wüsste in Tirschenreuth - Mit u. a. Gerald Grosz
DESCRIPTION:📢 Große Politikveranstaltung der AfD in der Oberpfalz! 📢 \nAufgrund der überwältigenden Nachfrage kehren Katrin Ebner-Steiner Spitzenkandidatin der AfD für Bayern und Gerald Grosz noch einmal in die Oberpfalz zurück! 🌟 \nWeitere hochkarätige Redner sind: \n🔹 Roland Magerl – Unser Spitzenkandidat der Oberpfalz für den Landtag und Listenplatz 1 der AfD.\n🔹 Stefan Löw – Der Kandidat für den Landtag – Stimmkreis Tirschenreuth und Listenplatz 2 der AfD.\n🔹 Manfred Schiller – Der Spitzenkandidat der Oberpfalz für den Bezirkstag. \nMarkiert euch den Termin im Kalender: \n27. September\, ab 16 Uhr\, auf dem Maximilianplatz in Tirschenreuth!\nErlebt inspirierende Reden\, Diskussionen und trefft Gleichgesinnte in einer einzigartigen Atmosphäre. Diese Veranstaltung darfst du nicht verpassen! 🔥 \nTeilt diese Nachricht\, ladet eure Freunde ein und lasst uns gemeinsam eine unvergessliche Veranstaltung in der Oberpfalz erleben. \nWir freuen uns auf euch! 🤝🇩🇪 \nEuer AfD Kreisverband Weiden – Neustadt – Tirschenreuth
URL:https://afd-weiden.de/veranstaltungen/wenn-das-der-waehler-wuesste-in-tirschenreuth-mit-u-a-gerald-grosz/
LOCATION:Maximilianplatz Tirschenreuth\, Maximilianplatz\, Tirschenreuth\, Bayern\, 95643\, Germany
CATEGORIES:Veranstaltung
ATTACH;FMTTYPE=image/png:https://afd-weiden.de/wp-content/uploads/2023/09/Wenn-das-der-Waehler-wuesste-TIR.png
ORGANIZER;CN="AfD Kreisverband Weiden":MAILTO:info@weiden.devseite.top
END:VEVENT
END:VCALENDAR