BEGIN:VCALENDAR
VERSION:2.0
PRODID:-//AfD Weiden | Kreisverband - ECPv6.15.18//NONSGML v1.0//EN
CALSCALE:GREGORIAN
METHOD:PUBLISH
X-WR-CALNAME:AfD Weiden | Kreisverband
X-ORIGINAL-URL:https://afd-weiden.de
X-WR-CALDESC:Veranstaltungen für AfD Weiden | Kreisverband
REFRESH-INTERVAL;VALUE=DURATION:PT1H
X-Robots-Tag:noindex
X-PUBLISHED-TTL:PT1H
BEGIN:VTIMEZONE
TZID:Europe/Berlin
BEGIN:DAYLIGHT
TZOFFSETFROM:+0100
TZOFFSETTO:+0200
TZNAME:CEST
DTSTART:20220327T010000
END:DAYLIGHT
BEGIN:STANDARD
TZOFFSETFROM:+0200
TZOFFSETTO:+0100
TZNAME:CET
DTSTART:20221030T010000
END:STANDARD
BEGIN:DAYLIGHT
TZOFFSETFROM:+0100
TZOFFSETTO:+0200
TZNAME:CEST
DTSTART:20230326T010000
END:DAYLIGHT
BEGIN:STANDARD
TZOFFSETFROM:+0200
TZOFFSETTO:+0100
TZNAME:CET
DTSTART:20231029T010000
END:STANDARD
BEGIN:DAYLIGHT
TZOFFSETFROM:+0100
TZOFFSETTO:+0200
TZNAME:CEST
DTSTART:20240331T010000
END:DAYLIGHT
BEGIN:STANDARD
TZOFFSETFROM:+0200
TZOFFSETTO:+0100
TZNAME:CET
DTSTART:20241027T010000
END:STANDARD
END:VTIMEZONE
BEGIN:VEVENT
DTSTART;TZID=Europe/Berlin:20230729T100000
DTEND;TZID=Europe/Berlin:20230729T130000
DTSTAMP:20260425T003543
CREATED:20230727T104212Z
LAST-MODIFIED:20230727T182229Z
UID:131635-1690624800-1690635600@afd-weiden.de
SUMMARY:AfD Weiden Infostand in Erbendorf 29.07.2023
DESCRIPTION:Besucht unseren AfD-Infostand in Erbendorf Unterer Markt!\nKommt vorbei und erfahrt aus erster Hand mehr über die AfD!\nWir sind für euch am 29.07.2023 von 10 – 13 Uhr vor Ort.\nEuer AfD Kreisverband Weiden.
URL:https://afd-weiden.de/veranstaltungen/afd-weiden-infostand-in-erbendorf-29-07-2023/
LOCATION:Erbendorf\, Unterer Markt\, Erbendorf\, Bayern\, 92681\, Germany
CATEGORIES:Infostand
ATTACH;FMTTYPE=image/png:https://afd-weiden.de/wp-content/uploads/2023/07/KV-Infostand-Erbendorf-2023-07-29.png
ORGANIZER;CN="AfD Kreisverband Weiden":MAILTO:info@weiden.devseite.top
END:VEVENT
END:VCALENDAR