BEGIN:VCALENDAR
VERSION:2.0
PRODID:-//AfD Weiden | Kreisverband - ECPv6.15.18//NONSGML v1.0//EN
CALSCALE:GREGORIAN
METHOD:PUBLISH
X-WR-CALNAME:AfD Weiden | Kreisverband
X-ORIGINAL-URL:https://afd-weiden.de
X-WR-CALDESC:Veranstaltungen für AfD Weiden | Kreisverband
REFRESH-INTERVAL;VALUE=DURATION:PT1H
X-Robots-Tag:noindex
X-PUBLISHED-TTL:PT1H
BEGIN:VTIMEZONE
TZID:Europe/Berlin
BEGIN:DAYLIGHT
TZOFFSETFROM:+0100
TZOFFSETTO:+0200
TZNAME:CEST
DTSTART:20240331T010000
END:DAYLIGHT
BEGIN:STANDARD
TZOFFSETFROM:+0200
TZOFFSETTO:+0100
TZNAME:CET
DTSTART:20241027T010000
END:STANDARD
BEGIN:DAYLIGHT
TZOFFSETFROM:+0100
TZOFFSETTO:+0200
TZNAME:CEST
DTSTART:20250330T010000
END:DAYLIGHT
BEGIN:STANDARD
TZOFFSETFROM:+0200
TZOFFSETTO:+0100
TZNAME:CET
DTSTART:20251026T010000
END:STANDARD
BEGIN:DAYLIGHT
TZOFFSETFROM:+0100
TZOFFSETTO:+0200
TZNAME:CEST
DTSTART:20260329T010000
END:DAYLIGHT
BEGIN:STANDARD
TZOFFSETFROM:+0200
TZOFFSETTO:+0100
TZNAME:CET
DTSTART:20261025T010000
END:STANDARD
END:VTIMEZONE
BEGIN:VEVENT
DTSTART;TZID=Europe/Berlin:20250508T180000
DTEND;TZID=Europe/Berlin:20250508T210000
DTSTAMP:20260421T002718
CREATED:20250507T151145Z
LAST-MODIFIED:20250507T151145Z
UID:133260-1746727200-1746738000@afd-weiden.de
SUMMARY:BERICHT AUS BERLIN – STAMMTISCH MIT MANFRED SCHILLER
DESCRIPTION:🔥 Kanzlerwahldesaster 2025: Friedrich Merz – Kanzler der zweiten Wahl? \n🗓 Donnerstag\, 08.05.2025\n📍 AfD-Büro Weiden | Christian-Seltmann-Straße 21\n🕕 Beginn: 18:00 Uhr\n🗣 Offene Diskussion – unverbindlich\, für alle Bürger. \nWährend Berlin im Machtchaos versinkt und sich Friedrich Merz durch die Hintertür ins Kanzleramt schiebt\, laden wir zur offenen Diskussion mit unserem Bundestagsabgeordneten Manfred Schiller. \n💬 Was läuft schief im Bundestag?\n⚖️ Wie demokratisch ist eine Kanzlerwahl\, die am Wählerwillen vorbeigeht?\n💡 Welche Alternativen bleiben den Bürgern\, wenn die konservative\, bürgerliche Politik zerbricht? \n👉 Jetzt mitreden statt zuschauen.\nKlartext\, keine Phrasen. \n📢 Egal ob Wähler\, Nichtwähler\, Kritiker oder Sympathisant: Du bist willkommen. \n🔁 Teilen erwünscht.\n✊ Es ist Zeit\, die Stimme zu erheben – bevor es andere für dich tun.
URL:https://afd-weiden.de/veranstaltungen/bericht-aus-berlin-stammtisch-mit-manfred-schiller/
LOCATION:Christian-Seltmann-Straße 21\, 92637 Weiden\, Christian-Seltmann-Straße 21\, Weiden\, Bayern\, 92637\, Germany
CATEGORIES:Infoabend
ATTACH;FMTTYPE=image/png:https://afd-weiden.de/wp-content/uploads/2025/05/AfD-Weiden-AfD-Stammtisch-mit-Manfred-Schiller-Bericht-aus-Berlin-08.05.2025.png
ORGANIZER;CN="AfD Kreisverband Weiden":MAILTO:info@weiden.devseite.top
END:VEVENT
END:VCALENDAR