BEGIN:VCALENDAR
VERSION:2.0
PRODID:-//AfD Weiden | Kreisverband - ECPv6.15.18//NONSGML v1.0//EN
CALSCALE:GREGORIAN
METHOD:PUBLISH
X-WR-CALNAME:AfD Weiden | Kreisverband
X-ORIGINAL-URL:https://afd-weiden.de
X-WR-CALDESC:Veranstaltungen für AfD Weiden | Kreisverband
REFRESH-INTERVAL;VALUE=DURATION:PT1H
X-Robots-Tag:noindex
X-PUBLISHED-TTL:PT1H
BEGIN:VTIMEZONE
TZID:Europe/Berlin
BEGIN:DAYLIGHT
TZOFFSETFROM:+0100
TZOFFSETTO:+0200
TZNAME:CEST
DTSTART:20250330T010000
END:DAYLIGHT
BEGIN:STANDARD
TZOFFSETFROM:+0200
TZOFFSETTO:+0100
TZNAME:CET
DTSTART:20251026T010000
END:STANDARD
BEGIN:DAYLIGHT
TZOFFSETFROM:+0100
TZOFFSETTO:+0200
TZNAME:CEST
DTSTART:20260329T010000
END:DAYLIGHT
BEGIN:STANDARD
TZOFFSETFROM:+0200
TZOFFSETTO:+0100
TZNAME:CET
DTSTART:20261025T010000
END:STANDARD
BEGIN:DAYLIGHT
TZOFFSETFROM:+0100
TZOFFSETTO:+0200
TZNAME:CEST
DTSTART:20270328T010000
END:DAYLIGHT
BEGIN:STANDARD
TZOFFSETFROM:+0200
TZOFFSETTO:+0100
TZNAME:CET
DTSTART:20271031T010000
END:STANDARD
END:VTIMEZONE
BEGIN:VEVENT
DTSTART;TZID=Europe/Berlin:20260307T100000
DTEND;TZID=Europe/Berlin:20260307T130000
DTSTAMP:20260422T121223
CREATED:20260303T162203Z
LAST-MODIFIED:20260303T162751Z
UID:135406-1772877600-1772888400@afd-weiden.de
SUMMARY:AfD Infostand in Weiden -  07.03.2026
DESCRIPTION:🗓 am Samstag\, 07.03.2026\n🕚 von 10-13 Uhr\n📍 Weiden (Oberer Markt) \nMit unserem OB-Kandidaten Ferdinand Adam und unseren Stadtratskandidaten. \nKommt zu uns und informiert euch aus erster Hand. \nEuer AfD Kreisverband Weiden-Neustadt-Tirschenreuth
URL:https://afd-weiden.de/veranstaltungen/afd-infostand-in-weiden-07-03-2026/
LOCATION:Weiden Makrtplatz
CATEGORIES:Infostand
ATTACH;FMTTYPE=image/png:https://afd-weiden.de/wp-content/uploads/2026/03/AfD-Infostand-in-Weiden-07-03-2026.png
END:VEVENT
BEGIN:VEVENT
DTSTART;TZID=Europe/Berlin:20260307T110000
DTEND;TZID=Europe/Berlin:20260307T140000
DTSTAMP:20260422T121223
CREATED:20260305T125525Z
LAST-MODIFIED:20260305T210652Z
UID:135433-1772881200-1772892000@afd-weiden.de
SUMMARY:AfD Infostand in Mantel - 07.03.2026
DESCRIPTION:ℹ️ AfD Infostand in Mantel \n🗓 am Samstag\, 07.03.2026\n🕚 von 11-14 Uhr\n📍 Mantel (Am Schulanger) \nKommt zu uns und informiert euch aus erster Hand. \nEuer AfD Kreisverband Weiden-Neustadt-Tirschenreuth \n 
URL:https://afd-weiden.de/veranstaltungen/afd-infostand-in-mantel-07-03-2026/
LOCATION:Mantel
CATEGORIES:Infostand
ORGANIZER;CN="AfD Kreisverband Weiden":MAILTO:info@weiden.devseite.top
END:VEVENT
BEGIN:VEVENT
DTSTART;TZID=Europe/Berlin:20260307T180000
DTEND;TZID=Europe/Berlin:20260307T210000
DTSTAMP:20260422T121223
CREATED:20260302T195421Z
LAST-MODIFIED:20260302T202913Z
UID:135398-1772906400-1772917200@afd-weiden.de
SUMMARY:Jugendstammtisch in Weiden - 07.03.2026
DESCRIPTION:Du hast Lust auf ehrliche Gespräche\, klare Worte und einen entspannten Abend unter Gleichgesinnten? Dann komm vorbei. \n📅 Samstag\, 07.03.2026\n🕕 Ab 18 Uhr\n📍 AfD-Büro\, Christian-Seltmann-Straße 21\, 92637 Weiden \nKein steifer Parteitermin\, sondern offener Austausch. Fragen stellen\, Ideen einbringen\, mitdiskutieren – ganz unkompliziert. \nWir freuen uns auf dich.
URL:https://afd-weiden.de/veranstaltungen/jugendstammtisch-in-weiden-07-03-2026/
LOCATION:Christian-Seltmann-Straße 21\, 92637 Weiden\, Christian-Seltmann-Straße 21\, Weiden\, Bayern\, 92637\, Germany
CATEGORIES:Stammtisch
ATTACH;FMTTYPE=image/png:https://afd-weiden.de/wp-content/uploads/2026/03/AfD-Weiden-Jugendstammtisch-07.03.2026.png
ORGANIZER;CN="AfD Kreisverband Weiden":MAILTO:info@weiden.devseite.top
END:VEVENT
END:VCALENDAR