BEGIN:VCALENDAR
VERSION:2.0
PRODID:-//AfD Weiden | Kreisverband - ECPv6.15.18//NONSGML v1.0//EN
CALSCALE:GREGORIAN
METHOD:PUBLISH
X-ORIGINAL-URL:https://afd-weiden.de
X-WR-CALDESC:Veranstaltungen für AfD Weiden | Kreisverband
REFRESH-INTERVAL;VALUE=DURATION:PT1H
X-Robots-Tag:noindex
X-PUBLISHED-TTL:PT1H
BEGIN:VTIMEZONE
TZID:Europe/Berlin
BEGIN:DAYLIGHT
TZOFFSETFROM:+0100
TZOFFSETTO:+0200
TZNAME:CEST
DTSTART:20250330T010000
END:DAYLIGHT
BEGIN:STANDARD
TZOFFSETFROM:+0200
TZOFFSETTO:+0100
TZNAME:CET
DTSTART:20251026T010000
END:STANDARD
BEGIN:DAYLIGHT
TZOFFSETFROM:+0100
TZOFFSETTO:+0200
TZNAME:CEST
DTSTART:20260329T010000
END:DAYLIGHT
BEGIN:STANDARD
TZOFFSETFROM:+0200
TZOFFSETTO:+0100
TZNAME:CET
DTSTART:20261025T010000
END:STANDARD
BEGIN:DAYLIGHT
TZOFFSETFROM:+0100
TZOFFSETTO:+0200
TZNAME:CEST
DTSTART:20270328T010000
END:DAYLIGHT
BEGIN:STANDARD
TZOFFSETFROM:+0200
TZOFFSETTO:+0100
TZNAME:CET
DTSTART:20271031T010000
END:STANDARD
END:VTIMEZONE
BEGIN:VEVENT
DTSTART;TZID=Europe/Berlin:20260206T110000
DTEND;TZID=Europe/Berlin:20260206T130000
DTSTAMP:20260422T104308
CREATED:20260205T050101Z
LAST-MODIFIED:20260205T050101Z
UID:134540-1770375600-1770382800@afd-weiden.de
SUMMARY:AfD Infostand in Weiden am 06.02.2026
DESCRIPTION:ℹ️ AfD Infostand in Vohenstrauß \n🗓 am Freitag\, 06.02.2026\n🕚 von 11-13 Uhr\n📍 Vohenstrauß (Oberhalb Eisdiele Scotta) \nKommt zu uns und informiert euch aus erster Hand. \nEuer AfD Kreisverband Weiden-Neustadt-Tirschenreuth \n🇩🇪TEILEN🇩🇪LIKEN🇩🇪ABONNIEREN🇩🇪 \nAlle Kanäle auf einem Klick:\n🫵🏻👉🏻https://taplink.cc/afdweiden
URL:https://afd-weiden.de/veranstaltungen/afd-infostand-in-weiden-am-06-02-2026/
LOCATION:Vohenstrauß Oberhalb Eisdiele Scotta\, Vohenstrauß Oberhalb Eisdiele Scotta
CATEGORIES:Infostand
ATTACH;FMTTYPE=image/jpeg:https://afd-weiden.de/wp-content/uploads/2026/02/Infostand-Vohenstrauss.jpg
ORGANIZER;CN="AfD Kreisverband Weiden":MAILTO:info@weiden.devseite.top
END:VEVENT
BEGIN:VEVENT
DTSTART;TZID=Europe/Berlin:20260207T100000
DTEND;TZID=Europe/Berlin:20260207T130000
DTSTAMP:20260422T104308
CREATED:20260205T061342Z
LAST-MODIFIED:20260205T061342Z
UID:134547-1770458400-1770469200@afd-weiden.de
SUMMARY:AfD Infostand Weiden 07.02.2026
DESCRIPTION:ℹ️ AfD Infostand in Weiden \n🗓 am Samstag\, 07.02.2026\n🕚 von 10-13 Uhr\n📍 Weiden (Oberer Markt) \nMit unserem OB-Kandidaten Ferdinand Adam und unseren Stadtratskandidaten. \nKommt zu uns und informiert euch aus erster Hand. \nEuer AfD Kreisverband Weiden-Neustadt-Tirschenreuth \n🇩🇪TEILEN🇩🇪LIKEN🇩🇪ABONNIEREN🇩🇪 \nAlle Kanäle auf einem Klick:\n🫵🏻👉🏻https://taplink.cc/afdweiden
URL:https://afd-weiden.de/veranstaltungen/afd-infostand-weiden-07-02-2026/
LOCATION:Weiden Makrtplatz
CATEGORIES:Infostand
ATTACH;FMTTYPE=image/jpeg:https://afd-weiden.de/wp-content/uploads/2026/02/Infostand-Weiden-7-2-26-1.jpg
ORGANIZER;CN="AfD Kreisverband Weiden":MAILTO:info@weiden.devseite.top
END:VEVENT
BEGIN:VEVENT
DTSTART;TZID=Europe/Berlin:20260207T110000
DTEND;TZID=Europe/Berlin:20260214T150000
DTSTAMP:20260422T104308
CREATED:20260205T061105Z
LAST-MODIFIED:20260205T061105Z
UID:134544-1770462000-1771081200@afd-weiden.de
SUMMARY:AfD Infostand in Weiden am 07.02.2026
DESCRIPTION:ℹ️ AfD Infostand in Moosbach \n🗓 am Samstag\, 07.02.2026\n🕚 von 11-13 Uhr\n📍 Moosbach (Schleckerkreuzung) \nMit unseren Gemeinderats- und Kreistagskandidaten. \nKommt zu uns und informiert euch aus erster Hand. \nEuer AfD Kreisverband Weiden-Neustadt-Tirschenreuth \n🇩🇪TEILEN🇩🇪LIKEN🇩🇪ABONNIEREN🇩🇪 \nAlle Kanäle auf einen Klick:\n🫵🏻👉🏻https://taplink.cc/afdweiden
URL:https://afd-weiden.de/veranstaltungen/afd-infostand-in-weiden-am-07-02-2026/
LOCATION:Weiden Makrtplatz
CATEGORIES:Infostand
ATTACH;FMTTYPE=image/jpeg:https://afd-weiden.de/wp-content/uploads/2026/02/Infostand-Moosbach.jpg
ORGANIZER;CN="AfD Kreisverband Weiden":MAILTO:info@weiden.devseite.top
END:VEVENT
BEGIN:VEVENT
DTSTART;TZID=Europe/Berlin:20260213T110000
DTEND;TZID=Europe/Berlin:20260213T130000
DTSTAMP:20260422T104308
CREATED:20260211T115949Z
LAST-MODIFIED:20260211T120124Z
UID:134584-1770980400-1770987600@afd-weiden.de
SUMMARY:AfD Infostand in Neustadt - 13.02.2026
DESCRIPTION:ℹ️ AfD Infostand in Neustadt \n🗓 am Freitag\, 13.02.2026\n🕚 von 11-13 Uhr\n📍 Neustadt (Stadtplatz) \nKommt zu uns und informiert euch aus erster Hand. \nEuer AfD Kreisverband Weiden-Neustadt-Tirschenreuth \nAlle Kanäle auf einem Klick:\n🫵🏻👉🏻https://taplink.cc/afdweiden
URL:https://afd-weiden.de/veranstaltungen/afd-infostand-in-neustadt-13-02-2026/
LOCATION:Neustadt an der Waldnaab\, Stadtplatz
CATEGORIES:Infostand
ATTACH;FMTTYPE=image/png:https://afd-weiden.de/wp-content/uploads/2026/02/AfD-Infostand-Neustadt-13-02-2025-Ankuendigung.png
ORGANIZER;CN="AfD Kreisverband Weiden":MAILTO:info@weiden.devseite.top
END:VEVENT
BEGIN:VEVENT
DTSTART;TZID=Europe/Berlin:20260214T100000
DTEND;TZID=Europe/Berlin:20260214T130000
DTSTAMP:20260422T104308
CREATED:20260211T120619Z
LAST-MODIFIED:20260211T120636Z
UID:134590-1771063200-1771074000@afd-weiden.de
SUMMARY:AfD Infostand in Weiden - Oberer Markt - 14.02.2026
DESCRIPTION:ℹ️ AfD Infostand in Weiden \n🗓 am Samstag\, 14.02.2026\n🕚 von 10-13 Uhr\n📍 Weiden (Oberer Markt) \nMit unserem OB-Kandidaten Ferdinand Adam und unseren Stadtratskandidaten. \nKommt zu uns und informiert euch aus erster Hand. \nEuer AfD Kreisverband Weiden-Neustadt-Tirschenreuth \nAlle Kanäle auf einem Klick:\n🫵🏻👉🏻https://taplink.cc/afdweiden
URL:https://afd-weiden.de/veranstaltungen/afd-infostand-in-weiden-oberer-markt-14-02-2026/
LOCATION:Weiden\, Marktplatz\, Weiden\, Germany
CATEGORIES:Infostand
ATTACH;FMTTYPE=image/png:https://afd-weiden.de/wp-content/uploads/2026/02/AfD-Infostand-Weiden-14-02-2026-Ankuendigung.png
ORGANIZER;CN="AfD Kreisverband Weiden":MAILTO:info@weiden.devseite.top
END:VEVENT
BEGIN:VEVENT
DTSTART;TZID=Europe/Berlin:20260220T120000
DTEND;TZID=Europe/Berlin:20260220T150000
DTSTAMP:20260422T104308
CREATED:20260217T164719Z
LAST-MODIFIED:20260217T165414Z
UID:134604-1771588800-1771599600@afd-weiden.de
SUMMARY:AfD Infostand in Weiherhammer am 20.02.2026 von 12 bis 15 Uhr
DESCRIPTION:📍 Weiherhammer\, wir sind vor Ort! \nAm Freitag\, den 20. Februar 2026\, sind wir von 12 bis 15 Uhr mit unserem AfD-Infostand in Weiherhammer. \nLernt unsere Kandidaten Lukas Zeiler\, Sebastian Fröhler\, Gerhard Pflaum und Holger Hortig persönlich kennen. \n💬 Wir hören zu\, sprechen Klartext und beantworten eure Fragen direkt – ohne Filter\, ohne Schönfärberei. \nOb kommunale Themen\, Energiepreise\, Sicherheit oder Bürokratie – wir reden über das\, was euch vor Ort wirklich betrifft. \n👉 Kommt vorbei\, informiert euch aus erster Hand und bildet euch euer eigenes Urteil.\nDenn Politik beginnt nicht in Berlin – sondern hier\, bei uns in Weiherhammer. 🇩🇪
URL:https://afd-weiden.de/veranstaltungen/afd-infostand-in-weiherhammer-am-20-02-2026-von-12-bis-15-uhr/
LOCATION:Weiherhammer
ATTACH;FMTTYPE=image/jpeg:https://afd-weiden.de/wp-content/uploads/2026/02/AfD-Infostand-in-Weiherhammer-20-02-2026.jpg
ORGANIZER;CN="AfD Kreisverband Weiden":MAILTO:info@weiden.devseite.top
END:VEVENT
BEGIN:VEVENT
DTSTART;TZID=Europe/Berlin:20260221T100000
DTEND;TZID=Europe/Berlin:20260221T130000
DTSTAMP:20260422T104308
CREATED:20260217T165326Z
LAST-MODIFIED:20260217T165326Z
UID:134621-1771668000-1771678800@afd-weiden.de
SUMMARY:AfD Infostand in Weiden am 21.02.2026 von 10-13 Uhr
DESCRIPTION:ℹ️ AfD Infostand in Weiden \n🗓 am Samstag\, 21.02.2026\n🕚 von 10-13 Uhr\n📍 Weiden (Oberer Markt) \nMit unserem OB-Kandidaten Ferdinand Adam und unseren Stadtratskandidaten. \nKommt zu uns und informiert euch aus erster Hand. \nEuer AfD Kreisverband Weiden-Neustadt-Tirschenreuth \n🇩🇪TEILEN🇩🇪LIKEN🇩🇪ABONNIEREN🇩🇪 \nAlle Kanäle auf einem Klick:\n🫵🏻👉🏻https://taplink.cc/afdweiden
URL:https://afd-weiden.de/veranstaltungen/afd-infostand-in-weiden-am-21-02-2026-von-10-13-uhr/
LOCATION:Weiden\, Marktplatz\, Weiden\, Germany
CATEGORIES:Infostand
ATTACH;FMTTYPE=image/jpeg:https://afd-weiden.de/wp-content/uploads/2026/02/AfD-Infostand-in-Weiden-21-02-2026.jpg
ORGANIZER;CN="AfD Kreisverband Weiden":MAILTO:info@weiden.devseite.top
END:VEVENT
BEGIN:VEVENT
DTSTART;TZID=Europe/Berlin:20260221T110000
DTEND;TZID=Europe/Berlin:20260221T130000
DTSTAMP:20260422T104308
CREATED:20260220T073601Z
LAST-MODIFIED:20260220T074840Z
UID:134688-1771671600-1771678800@afd-weiden.de
SUMMARY:AfD Infostand in Mitterteich - 21-02-2026
DESCRIPTION:ℹ️ AfD Infostand in Mitterteich \n🗓 am Samstag\, 21.02.2026\n🕚 von 11-13 Uhr\n📍 Mitterteich (Marktplatz) \nKommt zu uns und informiert euch aus erster Hand. \nEuer AfD Kreisverband Weiden-Neustadt-Tirschenreuth \nAlle Kanäle auf einem Klick:\n🫵🏻👉🏻https://taplink.cc/afdweiden
URL:https://afd-weiden.de/veranstaltungen/afd-infostand-in-mitterteich-21-02-2026/
LOCATION:Mitterteich\, Marktplatz
CATEGORIES:Infostand
ORGANIZER;CN="AfD Kreisverband Weiden":MAILTO:info@weiden.devseite.top
END:VEVENT
BEGIN:VEVENT
DTSTART;TZID=Europe/Berlin:20260221T110000
DTEND;TZID=Europe/Berlin:20260221T140000
DTSTAMP:20260422T104308
CREATED:20260220T173944Z
LAST-MODIFIED:20260220T173944Z
UID:134692-1771671600-1771682400@afd-weiden.de
SUMMARY:Infostand Mantel - 21.02.2026
DESCRIPTION:ℹ️ AfD Infostand in Mantel \n🗓 am Samstag\, 21.02.2026\n🕚 von 11-14 Uhr\n📍 Mantel (Am Schulanger) \nKommt zu uns und informiert euch aus erster Hand. \nEuer AfD Kreisverband Weiden-Neustadt-Tirschenreuth \n🇩🇪TEILEN🇩🇪LIKEN🇩🇪ABONNIEREN🇩🇪 \n🌐 https://www.afd-weiden.de\n✉️ info@afd-weiden.de \nAlle Kanäle auf einem Klick:\n🫵🏻👉🏻https://taplink.cc/afdweiden
URL:https://afd-weiden.de/veranstaltungen/infostand-mantel-21-02-2026/
LOCATION:Mantel
CATEGORIES:Infostand
ATTACH;FMTTYPE=image/png:https://afd-weiden.de/wp-content/uploads/2026/02/AfD-Infostand-Mantel-21-02-2026.png
END:VEVENT
BEGIN:VEVENT
DTSTART;TZID=Europe/Berlin:20260222T080000
DTEND;TZID=Europe/Berlin:20260222T170000
DTSTAMP:20260422T104308
CREATED:20260222T195935Z
LAST-MODIFIED:20260222T195935Z
UID:134716-1771747200-1771779600@afd-weiden.de
SUMMARY:Islamismus in der Oberpfalz
DESCRIPTION:Aufgedeckt: Islamismus in der Oberpfalz.\nWas läuft hier wirklich – und was wird lieber nicht thematisiert? \n🗓 Fr\, 06.03.2026\n🕕 Einlass 18:00 | Beginn 19:00\n📍 Eisstockheim Neustadt/Waldnaab\n✅ Eintritt frei \nMit Irfan Peci\,\nMdL\, Stefan Löw und MdL\, Roland Magerl \nKommt vorbei. Stellt Fragen. Diskutiert mit. \n🔁 Teilen erwünscht. \n#Oberpfalz #NeustadtWaldnaab #Tirschenreuth #Weiden #Vortrag #Diskussion #PolitikVorOrt
URL:https://afd-weiden.de/veranstaltungen/islamismus-in-der-oberpfalz/
CATEGORIES:Infoabend
ATTACH;FMTTYPE=image/png:https://afd-weiden.de/wp-content/uploads/2026/02/AfD-Weiden-Vortrag-Islamismus-in-der-Oberpfalz.png
END:VEVENT
BEGIN:VEVENT
DTSTART;TZID=Europe/Berlin:20260227T110000
DTEND;TZID=Europe/Berlin:20260227T140000
DTSTAMP:20260422T104308
CREATED:20260224T130410Z
LAST-MODIFIED:20260224T130544Z
UID:134894-1772190000-1772200800@afd-weiden.de
SUMMARY:AfD Infostand in Waldsassen - 27.02.2026
DESCRIPTION:ℹ️ AfD Infostand in Waldsassen \n🗓 am Freitag\, 27.02.2026\n🕚 von 11-14 Uhr\n📍 Waldsassen (Johannisplatz 4) \nU.a. mit unseren Stadtratskandidaten: Christian Härtl und Udo Häuslmann. \nKommt zu uns und informiert euch aus erster Hand. \nEuer AfD Kreisverband Weiden-Neustadt-Tirschenreuth
URL:https://afd-weiden.de/veranstaltungen/afd-infostand-in-waldsassen-27-02-2026/
LOCATION:Waldsassen
CATEGORIES:Infostand
ATTACH;FMTTYPE=image/jpeg:https://afd-weiden.de/wp-content/uploads/2026/02/AfD-Infostand-in-Waldsassen-27-02-2026.jpg
ORGANIZER;CN="AfD Kreisverband Weiden":MAILTO:info@weiden.devseite.top
END:VEVENT
BEGIN:VEVENT
DTSTART;TZID=Europe/Berlin:20260228T100000
DTEND;TZID=Europe/Berlin:20260228T130000
DTSTAMP:20260422T104308
CREATED:20260224T130756Z
LAST-MODIFIED:20260224T130756Z
UID:134897-1772272800-1772283600@afd-weiden.de
SUMMARY:AfD Infostand in Weiden - 28.02.2026
DESCRIPTION:🗓 am Samstag\, 28.02.2026\n🕚 von 10-13 Uhr\n📍 Weiden (Oberer Markt) \nMit unserem OB-Kandidaten Ferdinand Adam und unseren Stadtratskandidaten. \nKommt zu uns und informiert euch aus erster Hand. \nEuer AfD Kreisverband Weiden-Neustadt-Tirschenreuth
URL:https://afd-weiden.de/veranstaltungen/afd-infostand-in-weiden-28-02-2026/
LOCATION:Weiden\, Marktplatz\, Weiden\, Germany
CATEGORIES:Infostand
ATTACH;FMTTYPE=image/jpeg:https://afd-weiden.de/wp-content/uploads/2026/02/AfD-Infostand-in-Weiden-Marktplatz-28.02.2026.jpg
ORGANIZER;CN="AfD Kreisverband Weiden":MAILTO:info@weiden.devseite.top
END:VEVENT
END:VCALENDAR