BEGIN:VCALENDAR
VERSION:2.0
PRODID:-//AfD Weiden | Kreisverband - ECPv6.15.18//NONSGML v1.0//EN
CALSCALE:GREGORIAN
METHOD:PUBLISH
X-ORIGINAL-URL:https://afd-weiden.de
X-WR-CALDESC:Veranstaltungen für AfD Weiden | Kreisverband
REFRESH-INTERVAL;VALUE=DURATION:PT1H
X-Robots-Tag:noindex
X-PUBLISHED-TTL:PT1H
BEGIN:VTIMEZONE
TZID:Europe/Berlin
BEGIN:DAYLIGHT
TZOFFSETFROM:+0100
TZOFFSETTO:+0200
TZNAME:CEST
DTSTART:20240331T010000
END:DAYLIGHT
BEGIN:STANDARD
TZOFFSETFROM:+0200
TZOFFSETTO:+0100
TZNAME:CET
DTSTART:20241027T010000
END:STANDARD
BEGIN:DAYLIGHT
TZOFFSETFROM:+0100
TZOFFSETTO:+0200
TZNAME:CEST
DTSTART:20250330T010000
END:DAYLIGHT
BEGIN:STANDARD
TZOFFSETFROM:+0200
TZOFFSETTO:+0100
TZNAME:CET
DTSTART:20251026T010000
END:STANDARD
BEGIN:DAYLIGHT
TZOFFSETFROM:+0100
TZOFFSETTO:+0200
TZNAME:CEST
DTSTART:20260329T010000
END:DAYLIGHT
BEGIN:STANDARD
TZOFFSETFROM:+0200
TZOFFSETTO:+0100
TZNAME:CET
DTSTART:20261025T010000
END:STANDARD
END:VTIMEZONE
BEGIN:VEVENT
DTSTART;TZID=Europe/Berlin:20251107T120000
DTEND;TZID=Europe/Berlin:20251107T150000
DTSTAMP:20260424T102008
CREATED:20251103T114614Z
LAST-MODIFIED:20251103T114614Z
UID:133563-1762516800-1762527600@afd-weiden.de
SUMMARY:AfD Infostand in Weiherhammer am 07.11.2025 ab 12 Uhr.
DESCRIPTION:Weiherhammer\, wir sind vor Ort! \nAm Freitag\, den 07. November 2025\, stehen wir von 12 bis 15 Uhr beim AfD-Infostand in Weiherhammer. \nLernt unsere Kandidaten Gerhard Pflaum\, Holger Hortig\, Lukas Zeiler und Sebastian Fröhler persönlich kennen. \n💬 Wir hören zu\, sprechen Klartext und beantworten eure Fragen direkt – ohne Filter\, ohne Schönfärberei. \nOb kommunale Themen\, Energiepreise\, Sicherheit oder Bürokratie – wir reden über das\, was euch vor Ort wirklich betrifft. \n👉 Kommt vorbei\, informiert euch aus erster Hand und bildet euch euer eigenes Urteil.\nDenn Politik beginnt nicht in Berlin – sondern hier\, bei uns in Weiherhammer. 🇩🇪
URL:https://afd-weiden.de/veranstaltungen/afd-infostand-in-weiherhammer-am-07-11-2025-ab-12-uhr/
LOCATION:Weiherhammer
CATEGORIES:Infostand
ATTACH;FMTTYPE=image/png:https://afd-weiden.de/wp-content/uploads/2025/11/AfD-Weiden-Infostand-Weiherhammer-Gemeinderatkandidaten-07.11.25.png
END:VEVENT
BEGIN:VEVENT
DTSTART;TZID=Europe/Berlin:20251112T183000
DTEND;TZID=Europe/Berlin:20251112T210000
DTSTAMP:20260424T102008
CREATED:20251121T062944Z
LAST-MODIFIED:20251121T063035Z
UID:133614-1762972200-1762981200@afd-weiden.de
SUMMARY:Tino Chrupalla und die bayerische Landesgruppe der AfD Bundestagsfraktion kommen nach Weiden
DESCRIPTION:Liebe Freunde\, \nzum Jahresabschluss 2025 plant die Landesgruppe Bayern der AfD-Fraktion des Deutschen Bundestages eine große Veranstaltung fast aller bayerischen Bundestagsabgeordneten\, und zwar nicht irgendwo\, sondern in der Max-Reger-Halle in Weiden!\nAls Gastgeber freue ich mich besonders darüber\, dass auch unser Parteivorsitzender Tino Chrupalla dabei sein wird! \nDer Bürgerdialog ist eine ideale Möglichkeit für euch\, mit euren Bundestagsabgeordneten in Kontakt zu treten und mehr über unsere Arbeit im Parlament und im Wahlkreis zu erfahren – auf Verköstigung dürft ihr euch ebenfalls freuen. \nKommt vorbei\, stellt uns Fragen\, diskutiert mit uns – wir freuen uns auf regen Austausch! \nWann: 12.12.25 um 18:30 Uhr \nWo: Max-Reger-Halle • Dr.-Pfleger-Straße 17 • 92637 Weiden i.d.OPf. \nMehr:\nhttps://manfred-schiller.de/tino-chrupalla-kommt-nach-weiden/ \nDirektlink zum PDF:\nhttps://manfred-schiller.de/wp-content/uploads/2025/11/lg-bayern_flyer-din-a5_12.12.25_weiden-opf_v2.0-1.pdf \nEuer Manfred Schiller
URL:https://afd-weiden.de/veranstaltungen/tino-chrupalla-und-die-bayerische-landesgruppe-der-afd-bundestagsfraktion-kommen-nach-weiden/
LOCATION:Max-Reger-Halle\, Weiden\, Dr.-Pfleger-Straße 17\, Weiden in der Oberpfalz\, Bayern\, 92637\, Germany
CATEGORIES:Bürgerdialog
ATTACH;FMTTYPE=image/jpeg:https://afd-weiden.de/wp-content/uploads/2025/11/photo_2025-11-20_16-36-27.jpg
END:VEVENT
BEGIN:VEVENT
DTSTART;TZID=Europe/Berlin:20251113T190000
DTEND;TZID=Europe/Berlin:20251113T210000
DTSTAMP:20260424T102008
CREATED:20251103T120922Z
LAST-MODIFIED:20251103T121020Z
UID:133567-1763060400-1763067600@afd-weiden.de
SUMMARY:Das Gesundheitswesen ist bankrott!
DESCRIPTION:Und jeder von uns spürt es: \n📉 Fehlendes Personal\,\n💶 explodierende Kosten\,\n⏳ endlose Wartezeiten –\nein System am Limit! \nDoch Dr. med. Klaus Lang zeigt: Es gibt Wege aus dem Chaos. \n➡️ Eine ehrliche Analyse – ohne politische Scheuklappen. \n➡️ Ein Blick nach vorn – wie eine zukunftsfähige Gesundheitsversorgung aussehen kann. \n🗓 Infoabend am 13.11.2025\n🕖 Beginn: 19:00 Uhr\n📍 Ort: Zum Alten Schuster\, Schustermooslohe 60\, 92637 Weiden \n👉 Kommt vorbei\, informiert euch\, diskutiert mit! \nDenn nur wer die Wahrheit kennt\, kann auch etwas verändern.
URL:https://afd-weiden.de/veranstaltungen/das-gesundheitswesen-ist-bankrott/
LOCATION:Zum Alten Schuster\, Weiden
CATEGORIES:Infoabend
ATTACH;FMTTYPE=image/png:https://afd-weiden.de/wp-content/uploads/2025/11/Veranstaltung-AfD-Weiden-13-11-2025-Das-Gesundheitswesen-ist-Bankrott.png
ORGANIZER;CN="AfD Kreisverband Weiden":MAILTO:info@weiden.devseite.top
END:VEVENT
BEGIN:VEVENT
DTSTART;TZID=Europe/Berlin:20251114T110000
DTEND;TZID=Europe/Berlin:20251114T140000
DTSTAMP:20260424T102008
CREATED:20251111T162706Z
LAST-MODIFIED:20251111T162706Z
UID:133593-1763118000-1763128800@afd-weiden.de
SUMMARY:AfD Infostand in Windischeschenbach am Freitag\, 14.11.2025
DESCRIPTION:ℹ️ AfD Infostand in Windischeschenbach \n🗓 am Freitag\, 14.11.2025\n🕚 von 11-14 Uhr\n📍 Windischeschenbach (Stadtplatz) \nKommt zu uns und informiert euch aus erster Hand. \nEuer AfD Kreisverband Weiden\, Oberpfalz \n🇩🇪TEILEN🇩🇪LIKEN🇩🇪ABONNIEREN🇩🇪 \n✉️ info@weiden.devseite.top
URL:https://afd-weiden.de/veranstaltungen/afd-infostand-in-windischeschenbach-am-freitag-14-11-2025/
LOCATION:Windischeschenbach Stadtplatz
CATEGORIES:Infostand
ATTACH;FMTTYPE=image/png:https://afd-weiden.de/wp-content/uploads/2025/11/AfD-Infostand-in-Windischeschenbach-2025.png
ORGANIZER;CN="AfD Kreisverband Weiden":MAILTO:info@weiden.devseite.top
END:VEVENT
BEGIN:VEVENT
DTSTART;TZID=Europe/Berlin:20251115T100000
DTEND;TZID=Europe/Berlin:20251115T130000
DTSTAMP:20260424T102008
CREATED:20251111T133643Z
LAST-MODIFIED:20251111T133643Z
UID:133588-1763200800-1763211600@afd-weiden.de
SUMMARY:AfD Infostand am 15.11.2025 in Weiden
DESCRIPTION:🇩🇪💙 Weiden\, wir sind für euch da! \n🗓 Samstag\, den 15. November 2025\n🕙 von 10 bis 13 Uhr\n📍AfD-Infostand in Weiden\, Oberer Markt. \nLernt unsere Stadtratskandidaten persönlich kennen!\nWir hören zu\, sprechen Klartext und nehmen eure Anliegen ernst. \n💬 Sagt uns\, was sich in Weiden ändern muss. \n👉 Kommt vorbei\, informiert euch aus erster Hand und bildet euch euer eigenes Urteil.\nDenn Politik beginnt nicht in Berlin – sondern hier\, bei uns in Weiden. 🇩🇪 \n 
URL:https://afd-weiden.de/veranstaltungen/afd-infostand-am-15-11-2025-in-weiden/
LOCATION:Weiden Makrtplatz
CATEGORIES:Infostand
ATTACH;FMTTYPE=image/png:https://afd-weiden.de/wp-content/uploads/2025/11/AfD-Infostand-in-Weiden-15.11.25_4.png
ORGANIZER;CN="AfD Kreisverband Weiden":MAILTO:info@weiden.devseite.top
END:VEVENT
BEGIN:VEVENT
DTSTART;TZID=Europe/Berlin:20251121T110000
DTEND;TZID=Europe/Berlin:20251121T140000
DTSTAMP:20260424T102008
CREATED:20251118T114823Z
LAST-MODIFIED:20251118T114823Z
UID:133610-1763722800-1763733600@afd-weiden.de
SUMMARY:AfD Infostand in Mitterteich
DESCRIPTION:🗓 am Freitag\, 21.11.2025\n🕚 von 11-14 Uhr\n📍 Mitterteich (Marktplatz) \nKommt zu uns und informiert euch aus erster Hand. \nEuer AfD Kreisverband Weiden\, Oberpfalz \n🇩🇪TEILEN🇩🇪LIKEN🇩🇪ABONNIEREN🇩🇪 \n🌐 https://afd-weiden.de\n✉️ info@weiden.devseite.top
URL:https://afd-weiden.de/veranstaltungen/afd-infostand-in-mitterteich-2/
LOCATION:Mitterteich\, Marktplatz
CATEGORIES:Infostand
ATTACH;FMTTYPE=image/png:https://afd-weiden.de/wp-content/uploads/2025/11/AfD-Infostand-in-Mitterteich-am-21-11-2025_A_3.png
ORGANIZER;CN="AfD Kreisverband Weiden":MAILTO:info@weiden.devseite.top
END:VEVENT
END:VCALENDAR