BEGIN:VCALENDAR
VERSION:2.0
PRODID:-//AfD Weiden | Kreisverband - ECPv6.15.18//NONSGML v1.0//EN
CALSCALE:GREGORIAN
METHOD:PUBLISH
X-ORIGINAL-URL:https://afd-weiden.de
X-WR-CALDESC:Veranstaltungen für AfD Weiden | Kreisverband
REFRESH-INTERVAL;VALUE=DURATION:PT1H
X-Robots-Tag:noindex
X-PUBLISHED-TTL:PT1H
BEGIN:VTIMEZONE
TZID:Europe/Berlin
BEGIN:DAYLIGHT
TZOFFSETFROM:+0100
TZOFFSETTO:+0200
TZNAME:CEST
DTSTART:20240331T010000
END:DAYLIGHT
BEGIN:STANDARD
TZOFFSETFROM:+0200
TZOFFSETTO:+0100
TZNAME:CET
DTSTART:20241027T010000
END:STANDARD
BEGIN:DAYLIGHT
TZOFFSETFROM:+0100
TZOFFSETTO:+0200
TZNAME:CEST
DTSTART:20250330T010000
END:DAYLIGHT
BEGIN:STANDARD
TZOFFSETFROM:+0200
TZOFFSETTO:+0100
TZNAME:CET
DTSTART:20251026T010000
END:STANDARD
BEGIN:DAYLIGHT
TZOFFSETFROM:+0100
TZOFFSETTO:+0200
TZNAME:CEST
DTSTART:20260329T010000
END:DAYLIGHT
BEGIN:STANDARD
TZOFFSETFROM:+0200
TZOFFSETTO:+0100
TZNAME:CET
DTSTART:20261025T010000
END:STANDARD
END:VTIMEZONE
BEGIN:VEVENT
DTSTART;TZID=Europe/Berlin:20250314T110000
DTEND;TZID=Europe/Berlin:20250314T140000
DTSTAMP:20260421T151854
CREATED:20250313T151102Z
LAST-MODIFIED:20250313T160140Z
UID:133161-1741950000-1741960800@afd-weiden.de
SUMMARY:Infostand in Pressath am 14.03.2025
DESCRIPTION:ℹ️ Infostand am Freitag\, 14.03.2025. \nIn Pressath (Spitalplatz) von 11-14 Uhr. \nKommt zu uns und informiert euch aus erster Hand. \nEuer AfD Kreisverband Weiden\, Oberpfalz
URL:https://afd-weiden.de/veranstaltungen/infostand-in-pressath-am-14-03-2025/
LOCATION:Pressath\, Spitalplatz\, 92690
CATEGORIES:Infostand
ATTACH;FMTTYPE=image/png:https://afd-weiden.de/wp-content/uploads/2025/03/AfD-Infostand-in-Pressath-14-03-2025.png
ORGANIZER;CN="AfD Kreisverband Weiden":MAILTO:info@weiden.devseite.top
END:VEVENT
BEGIN:VEVENT
DTSTART;TZID=Europe/Berlin:20250320T080000
DTEND;TZID=Europe/Berlin:20250320T170000
DTSTAMP:20260421T151854
CREATED:20250320T122522Z
LAST-MODIFIED:20250320T122522Z
UID:133176-1742457600-1742490000@afd-weiden.de
SUMMARY:AfD Infostand in Bärnau am 21.03.2025
DESCRIPTION:ℹ️ Infostand am Freitag\, 21.03.2025.\n\n\n \n\n\nIn Bärnau (Parkstraße) von 11-14 Uhr.\n\n\n \n\n\nKommt zu uns und informiert euch aus erster Hand.\n\n\n \n\n\nEuer AfD Kreisverband Weiden\, Oberpfalz\n\n\n \n\n\n🇩🇪TEILEN🇩🇪LIKEN🇩🇪ABONNIEREN🇩🇪\n\n\n \n\n\n👍 https://t.me/afdweiden\n\n\n \n\n\nFolgt uns auch auf:\n\n\n \n\n\n📱 https://www.facebook.com/afd.weiden/\n\n\n \n\n\n📱 https://whatsapp.com/channel/0029VaXcPaR8KMqmI82DFy2c\n\n\n \n\n\n📱 https://twitter.com/AfD_KV_Weiden\n\n\n \n\n\n📱 https://www.tiktok.com/@afd.weiden\n\n\n \n\n\n📱 https://www.youtube.com/@AfDWeidenidOPf\n\n\n \n\n\n📱 https://www.instagram.com/afd_weiden_in_der_oberpfalz/\n\n\n 
URL:https://afd-weiden.de/veranstaltungen/afd-infostand-in-baernau-am-21-03-2025/
CATEGORIES:Infostand
ATTACH;FMTTYPE=image/png:https://afd-weiden.de/wp-content/uploads/2025/03/AfD-Infostand-Baernau-21-03-2025.png
END:VEVENT
BEGIN:VEVENT
DTSTART;TZID=Europe/Berlin:20250328T110000
DTEND;TZID=Europe/Berlin:20250328T140000
DTSTAMP:20260421T151854
CREATED:20250327T130552Z
LAST-MODIFIED:20250327T130552Z
UID:133186-1743159600-1743170400@afd-weiden.de
SUMMARY:AfD Infostand in Kirchenthumbach - 28.03.2025
DESCRIPTION:ℹ️ Infostand am Freitag\, 28.03.2025. \nIn Kirchenthumbach (Marktplatz) von 11-14 Uhr. \nKommt zu uns und informiert euch aus erster Hand. \nEuer AfD Kreisverband Weiden\, Oberpfalz \n🇩🇪TEILEN🇩🇪LIKEN🇩🇪ABONNIEREN🇩🇪 \n👍 https://t.me/afdweiden \nFolgt uns auch auf: \n📱 https://www.facebook.com/afd.weiden/ \n📱 https://whatsapp.com/channel/0029VaXcPaR8KMqmI82DFy2c \n📱 https://twitter.com/AfD_KV_Weiden \n📱 https://www.tiktok.com/@afd.weiden \n📱 https://www.youtube.com/@AfDWeidenidOPf \n📱 https://www.instagram.com/afd_weiden_in_der_oberpfalz/ \n 
URL:https://afd-weiden.de/veranstaltungen/afd-infostand-in-kirchenthumbach-28-03-2025/
LOCATION:Kirchenthumbach Marktplatz
CATEGORIES:Infostand
ATTACH;FMTTYPE=image/png:https://afd-weiden.de/wp-content/uploads/2025/03/AfD-Infostand-Kirchenthumbach-28-03-2024.png
ORGANIZER;CN="AfD Kreisverband Weiden":MAILTO:info@weiden.devseite.top
END:VEVENT
END:VCALENDAR