BEGIN:VCALENDAR
VERSION:2.0
PRODID:-//AfD Weiden | Kreisverband - ECPv6.15.18//NONSGML v1.0//EN
CALSCALE:GREGORIAN
METHOD:PUBLISH
X-WR-CALNAME:AfD Weiden | Kreisverband
X-ORIGINAL-URL:https://afd-weiden.de
X-WR-CALDESC:Veranstaltungen für AfD Weiden | Kreisverband
REFRESH-INTERVAL;VALUE=DURATION:PT1H
X-Robots-Tag:noindex
X-PUBLISHED-TTL:PT1H
BEGIN:VTIMEZONE
TZID:Europe/Berlin
BEGIN:DAYLIGHT
TZOFFSETFROM:+0100
TZOFFSETTO:+0200
TZNAME:CEST
DTSTART:20230326T010000
END:DAYLIGHT
BEGIN:STANDARD
TZOFFSETFROM:+0200
TZOFFSETTO:+0100
TZNAME:CET
DTSTART:20231029T010000
END:STANDARD
BEGIN:DAYLIGHT
TZOFFSETFROM:+0100
TZOFFSETTO:+0200
TZNAME:CEST
DTSTART:20240331T010000
END:DAYLIGHT
BEGIN:STANDARD
TZOFFSETFROM:+0200
TZOFFSETTO:+0100
TZNAME:CET
DTSTART:20241027T010000
END:STANDARD
BEGIN:DAYLIGHT
TZOFFSETFROM:+0100
TZOFFSETTO:+0200
TZNAME:CEST
DTSTART:20250330T010000
END:DAYLIGHT
BEGIN:STANDARD
TZOFFSETFROM:+0200
TZOFFSETTO:+0100
TZNAME:CET
DTSTART:20251026T010000
END:STANDARD
END:VTIMEZONE
BEGIN:VEVENT
DTSTART;TZID=Europe/Berlin:20240703T080000
DTEND;TZID=Europe/Berlin:20240703T170000
DTSTAMP:20260421T180354
CREATED:20240703T174625Z
LAST-MODIFIED:20240703T174625Z
UID:132503-1719993600-1720026000@afd-weiden.de
SUMMARY:Stammtisch + Bericht vom Bundesparteitag und Berlin
DESCRIPTION:Offener politischer Stammtisch: \nDiesen Donnerstag berichtet Manfred Schiller über Bundesparteitag der AfD sowie von seinem Besuch bei der AfD-Bundestagsfraktion in Berlin. \nKommt zu uns und informiert euch aus erster Hand. \n📅 Wann? Jeden Donnerstag \n🕖 Uhrzeit? Ab 18:00 Uhr \n📍 Wo? AfD Büro Weiden\, Christian-Seltmann-Straße 21\, 92637 Weiden \nUnser Stammtisch ist für alle Mitglieder und Interessierten offen – egal\, ob ihr bereits politisch aktiv seid oder einfach nur neugierig. \nKommt vorbei\, bringt eure Freunde mit und lasst uns gemeinsam einen Abend voller interessanter Gespräche verbringen. Eine Anmeldung ist nicht erforderlich – schaut einfach vorbei\, wenn ihr Zeit und Lust habt! \nWer will\, kann auch Mitglied werden. \nWir freuen uns auf euch!
URL:https://afd-weiden.de/veranstaltungen/stammtisch-bericht-vom-bundesparteitag-und-berlin/
LOCATION:Christian-Seltmann-Straße 21\, 92637 Weiden\, Christian-Seltmann-Straße 21\, Weiden\, Bayern\, 92637\, Germany
CATEGORIES:Stammtisch
ATTACH;FMTTYPE=image/png:https://afd-weiden.de/wp-content/uploads/2024/07/AfD-Weiden-Stammtisch-04-07-2024.png
ORGANIZER;CN="AfD Kreisverband Weiden":MAILTO:info@weiden.devseite.top
END:VEVENT
BEGIN:VEVENT
DTSTART;TZID=Europe/Berlin:20240706T100000
DTEND;TZID=Europe/Berlin:20240706T130000
DTSTAMP:20260421T180354
CREATED:20240705T103931Z
LAST-MODIFIED:20240705T103931Z
UID:132514-1720260000-1720270800@afd-weiden.de
SUMMARY:AfD Infostand in Erbendorf
DESCRIPTION:ℹ️ Infostand in Erbendorf am 06.07.2024 \nAm Samstag\, 06.07.2024 sind wir von 10 bis 13 Uhr für euch in Erbendorf\, am Unteren Markt. \nKommt zu uns und informiert euch aus erster Hand. \nEuer AfD Kreisverband Weiden\, Oberpfalz \n🇩🇪TEILEN🇩🇪LIKEN🇩🇪ABONNIEREN🇩🇪 \n👍 https://t.me/afdweiden \nFolgt uns auch auf: \n🟦Facebook\nhttps://www.facebook.com/afd.weiden/ \n🟩WhatsApp:\nhttps://whatsapp.com/channel/0029VaXcPaR8KMqmI82DFy2c \n⬛️Twitter:\nhttps://twitter.com/AfD_KV_Weiden \n🟪TikTok:\nhttps://www.tiktok.com/@afd.weiden \n🟥Youtube:\nhttps://www.youtube.com/@AfDWeidenidOPf \n🟪Instagram:\nhttps://www.instagram.com/afd_weiden_in_der_oberpfalz/ \n 
URL:https://afd-weiden.de/veranstaltungen/afd-infostand-in-erbendorf/
LOCATION:Erbendorf\, Unterer Markt\, Erbendorf\, Bayern\, 92681\, Germany
CATEGORIES:Infostand
ATTACH;FMTTYPE=image/png:https://afd-weiden.de/wp-content/uploads/2024/07/AfD-Infostand-2024-Erbendorf-06-07.png
ORGANIZER;CN="AfD Kreisverband Weiden":MAILTO:info@weiden.devseite.top
END:VEVENT
BEGIN:VEVENT
DTSTART;TZID=Europe/Berlin:20240712T100000
DTEND;TZID=Europe/Berlin:20240712T130000
DTSTAMP:20260421T180354
CREATED:20240711T051712Z
LAST-MODIFIED:20240711T051712Z
UID:132524-1720778400-1720789200@afd-weiden.de
SUMMARY:AfD Infostand in Floß am 12.07.2024
DESCRIPTION:ℹ️ Infostand in Floß am 12.07.2024 \nAm Freitag\, 12.07.2024 sind wir von 10 bis 13 Uhr für euch in Floß\, am Marktplatz. \nKommt zu uns und informiert euch aus erster Hand. \nEuer AfD Kreisverband Weiden\, Oberpfalz \n🇩🇪TEILEN🇩🇪LIKEN🇩🇪ABONNIEREN🇩🇪
URL:https://afd-weiden.de/veranstaltungen/afd-infostand-in-floss-am-12-07-2024/
LOCATION:Floß\, Marktplatz
CATEGORIES:Infostand
ORGANIZER;CN="AfD Kreisverband Weiden":MAILTO:info@weiden.devseite.top
END:VEVENT
BEGIN:VEVENT
DTSTART;TZID=Europe/Berlin:20240719T100000
DTEND;TZID=Europe/Berlin:20240719T130000
DTSTAMP:20260421T180354
CREATED:20240717T131406Z
LAST-MODIFIED:20240717T132526Z
UID:132529-1721383200-1721394000@afd-weiden.de
SUMMARY:Infostand in Kemnath am 19.07.2024
DESCRIPTION:ℹ️ Infostand in Kemnath am 19.07.2024 \nAm Freitag\, 19.07.2024 sind wir von 10 bis 13 Uhr für euch in Kemnath\, am Stadtplatz. \nKommt zu uns und informiert euch aus erster Hand. \nEuer AfD Kreisverband Weiden\, Oberpfalz \n🇩🇪TEILEN🇩🇪LIKEN🇩🇪ABONNIEREN🇩🇪 \n👍 https://t.me/afdweiden \nFolgt uns auch auf: \n🟦Facebook\nhttps://www.facebook.com/afd.weiden/ \n🟩WhatsApp:\nhttps://whatsapp.com/channel/0029VaXcPaR8KMqmI82DFy2c \n⬛️Twitter:\nhttps://twitter.com/AfD_KV_Weiden \n🟪TikTok:\nhttps://www.tiktok.com/@afd.weiden \n🟥Youtube:\nhttps://www.youtube.com/@AfDWeidenidOPf \n🟪Instagram:\nhttps://www.instagram.com/afd_weiden_in_der_oberpfalz/
URL:https://afd-weiden.de/veranstaltungen/infostand-in-kemnath-am-19-07-2024/
LOCATION:Kemnath\, Stadtplatz
CATEGORIES:Infostand
ATTACH;FMTTYPE=image/png:https://afd-weiden.de/wp-content/uploads/2024/07/AfD-Weiden-Infostand-in-Kemnath-19.07.2023.png
ORGANIZER;CN="AfD Kreisverband Weiden":MAILTO:info@weiden.devseite.top
END:VEVENT
BEGIN:VEVENT
DTSTART;TZID=Europe/Berlin:20240726T100000
DTEND;TZID=Europe/Berlin:20240726T130000
DTSTAMP:20260421T180354
CREATED:20240725T105424Z
LAST-MODIFIED:20240725T105424Z
UID:132556-1721988000-1721998800@afd-weiden.de
SUMMARY:AfD Weiden - Infostand Kirchenthumbach 26-07-2024
DESCRIPTION:Infostand in Kirchenthumbach am 26.07.2024 \nAm Freitag\, 26.07.2024 sind wir von 10 bis 13 Uhr für euch in Kirchenthumbach\, am Marktplatz. \nKommt zu uns und informiert euch aus erster Hand. \nEuer AfD Kreisverband Weiden\, Oberpfalz \n🇩🇪TEILEN🇩🇪LIKEN🇩🇪ABONNIEREN🇩🇪 \n👍 https://t.me/afdweiden \nFolgt uns auch auf: \n📱Facebook\nhttps://www.facebook.com/afd.weiden/ \n📱WhatsApp:\nhttps://whatsapp.com/channel/0029VaXcPaR8KMqmI82DFy2c \n📱X:\nhttps://twitter.com/AfD_KV_Weiden \n📱TikTok:\nhttps://www.tiktok.com/@afd.weiden \n📱Youtube:\nhttps://www.youtube.com/@AfDWeidenidOPf \n📱Instagram:\nhttps://www.instagram.com/afd_weiden_in_der_oberpfalz/
URL:https://afd-weiden.de/veranstaltungen/afd-weiden-infostand-kirchenthumbach-26-07-2024/
LOCATION:Kirchenthumbach Marktplatz
CATEGORIES:Infostand
ATTACH;FMTTYPE=image/png:https://afd-weiden.de/wp-content/uploads/2024/07/AfD-Weiden-Infostand-Kirchenthumbach-26-07-2024.png
ORGANIZER;CN="AfD Kreisverband Weiden":MAILTO:info@weiden.devseite.top
END:VEVENT
BEGIN:VEVENT
DTSTART;TZID=Europe/Berlin:20240731T080000
DTEND;TZID=Europe/Berlin:20240731T170000
DTSTAMP:20260421T180354
CREATED:20240731T100105Z
LAST-MODIFIED:20240731T100105Z
UID:132571-1722412800-1722445200@afd-weiden.de
SUMMARY:Infostand in Eschenbach am 02.08.2024
DESCRIPTION:Infostand in Eschenbach am 02.08.2024 \nAm Freitag\, 02.08.2024 sind wir von 10 bis 13 Uhr für euch in Eschenbach\, am Karlsplatz. \nKommt zu uns und informiert euch aus erster Hand. \nEuer AfD Kreisverband Weiden\, Oberpfalz \n🇩🇪TEILEN🇩🇪LIKEN🇩🇪ABONNIEREN🇩🇪 \n👍 https://t.me/afdweiden \nFolgt uns auch auf: \n📱Facebook\nhttps://www.facebook.com/afd.weiden/ \n📱WhatsApp:\nhttps://whatsapp.com/channel/0029VaXcPaR8KMqmI82DFy2c \n📱X:\nhttps://twitter.com/AfD_KV_Weiden \n📱TikTok:\nhttps://www.tiktok.com/@afd.weiden \n📱Youtube:\nhttps://www.youtube.com/@AfDWeidenidOPf \n📱Instagram:\nhttps://www.instagram.com/afd_weiden_in_der_oberpfalz/ \n 
URL:https://afd-weiden.de/veranstaltungen/infostand-in-eschenbach-am-02-08-2024/
CATEGORIES:Infostand
ATTACH;FMTTYPE=image/png:https://afd-weiden.de/wp-content/uploads/2024/07/AfD-Weiden-Infostand-Eschenbach-02.08.2024.png
END:VEVENT
END:VCALENDAR