BEGIN:VCALENDAR
VERSION:2.0
PRODID:-//AfD Weiden | Kreisverband - ECPv6.15.18//NONSGML v1.0//EN
CALSCALE:GREGORIAN
METHOD:PUBLISH
X-ORIGINAL-URL:https://afd-weiden.de
X-WR-CALDESC:Veranstaltungen für AfD Weiden | Kreisverband
REFRESH-INTERVAL;VALUE=DURATION:PT1H
X-Robots-Tag:noindex
X-PUBLISHED-TTL:PT1H
BEGIN:VTIMEZONE
TZID:Europe/Berlin
BEGIN:DAYLIGHT
TZOFFSETFROM:+0100
TZOFFSETTO:+0200
TZNAME:CEST
DTSTART:20250330T010000
END:DAYLIGHT
BEGIN:STANDARD
TZOFFSETFROM:+0200
TZOFFSETTO:+0100
TZNAME:CET
DTSTART:20251026T010000
END:STANDARD
BEGIN:DAYLIGHT
TZOFFSETFROM:+0100
TZOFFSETTO:+0200
TZNAME:CEST
DTSTART:20260329T010000
END:DAYLIGHT
BEGIN:STANDARD
TZOFFSETFROM:+0200
TZOFFSETTO:+0100
TZNAME:CET
DTSTART:20261025T010000
END:STANDARD
BEGIN:DAYLIGHT
TZOFFSETFROM:+0100
TZOFFSETTO:+0200
TZNAME:CEST
DTSTART:20270328T010000
END:DAYLIGHT
BEGIN:STANDARD
TZOFFSETFROM:+0200
TZOFFSETTO:+0100
TZNAME:CET
DTSTART:20271031T010000
END:STANDARD
END:VTIMEZONE
BEGIN:VEVENT
DTSTART;TZID=Europe/Berlin:20260220T120000
DTEND;TZID=Europe/Berlin:20260220T150000
DTSTAMP:20260422T121334
CREATED:20260217T164719Z
LAST-MODIFIED:20260217T165414Z
UID:134604-1771588800-1771599600@afd-weiden.de
SUMMARY:AfD Infostand in Weiherhammer am 20.02.2026 von 12 bis 15 Uhr
DESCRIPTION:📍 Weiherhammer\, wir sind vor Ort! \nAm Freitag\, den 20. Februar 2026\, sind wir von 12 bis 15 Uhr mit unserem AfD-Infostand in Weiherhammer. \nLernt unsere Kandidaten Lukas Zeiler\, Sebastian Fröhler\, Gerhard Pflaum und Holger Hortig persönlich kennen. \n💬 Wir hören zu\, sprechen Klartext und beantworten eure Fragen direkt – ohne Filter\, ohne Schönfärberei. \nOb kommunale Themen\, Energiepreise\, Sicherheit oder Bürokratie – wir reden über das\, was euch vor Ort wirklich betrifft. \n👉 Kommt vorbei\, informiert euch aus erster Hand und bildet euch euer eigenes Urteil.\nDenn Politik beginnt nicht in Berlin – sondern hier\, bei uns in Weiherhammer. 🇩🇪
URL:https://afd-weiden.de/veranstaltungen/afd-infostand-in-weiherhammer-am-20-02-2026-von-12-bis-15-uhr/
LOCATION:Weiherhammer
ATTACH;FMTTYPE=image/jpeg:https://afd-weiden.de/wp-content/uploads/2026/02/AfD-Infostand-in-Weiherhammer-20-02-2026.jpg
ORGANIZER;CN="AfD Kreisverband Weiden":MAILTO:info@weiden.devseite.top
END:VEVENT
END:VCALENDAR