BEGIN:VCALENDAR
VERSION:2.0
PRODID:-//AfD Weiden | Kreisverband - ECPv6.15.18//NONSGML v1.0//EN
CALSCALE:GREGORIAN
METHOD:PUBLISH
X-WR-CALNAME:AfD Weiden | Kreisverband
X-ORIGINAL-URL:https://afd-weiden.de
X-WR-CALDESC:Veranstaltungen für AfD Weiden | Kreisverband
REFRESH-INTERVAL;VALUE=DURATION:PT1H
X-Robots-Tag:noindex
X-PUBLISHED-TTL:PT1H
BEGIN:VTIMEZONE
TZID:Europe/Berlin
BEGIN:DAYLIGHT
TZOFFSETFROM:+0100
TZOFFSETTO:+0200
TZNAME:CEST
DTSTART:20240331T010000
END:DAYLIGHT
BEGIN:STANDARD
TZOFFSETFROM:+0200
TZOFFSETTO:+0100
TZNAME:CET
DTSTART:20241027T010000
END:STANDARD
BEGIN:DAYLIGHT
TZOFFSETFROM:+0100
TZOFFSETTO:+0200
TZNAME:CEST
DTSTART:20250330T010000
END:DAYLIGHT
BEGIN:STANDARD
TZOFFSETFROM:+0200
TZOFFSETTO:+0100
TZNAME:CET
DTSTART:20251026T010000
END:STANDARD
BEGIN:DAYLIGHT
TZOFFSETFROM:+0100
TZOFFSETTO:+0200
TZNAME:CEST
DTSTART:20260329T010000
END:DAYLIGHT
BEGIN:STANDARD
TZOFFSETFROM:+0200
TZOFFSETTO:+0100
TZNAME:CET
DTSTART:20261025T010000
END:STANDARD
END:VTIMEZONE
BEGIN:VEVENT
DTSTART;TZID=Europe/Berlin:20251115T100000
DTEND;TZID=Europe/Berlin:20251115T130000
DTSTAMP:20260422T065036
CREATED:20251111T133643Z
LAST-MODIFIED:20251111T133643Z
UID:133588-1763200800-1763211600@afd-weiden.de
SUMMARY:AfD Infostand am 15.11.2025 in Weiden
DESCRIPTION:🇩🇪💙 Weiden\, wir sind für euch da! \n🗓 Samstag\, den 15. November 2025\n🕙 von 10 bis 13 Uhr\n📍AfD-Infostand in Weiden\, Oberer Markt. \nLernt unsere Stadtratskandidaten persönlich kennen!\nWir hören zu\, sprechen Klartext und nehmen eure Anliegen ernst. \n💬 Sagt uns\, was sich in Weiden ändern muss. \n👉 Kommt vorbei\, informiert euch aus erster Hand und bildet euch euer eigenes Urteil.\nDenn Politik beginnt nicht in Berlin – sondern hier\, bei uns in Weiden. 🇩🇪 \n 
URL:https://afd-weiden.de/veranstaltungen/afd-infostand-am-15-11-2025-in-weiden/
LOCATION:Weiden Makrtplatz
CATEGORIES:Infostand
ATTACH;FMTTYPE=image/png:https://afd-weiden.de/wp-content/uploads/2025/11/AfD-Infostand-in-Weiden-15.11.25_4.png
ORGANIZER;CN="AfD Kreisverband Weiden":MAILTO:info@weiden.devseite.top
END:VEVENT
END:VCALENDAR