BEGIN:VCALENDAR
VERSION:2.0
PRODID:-//AfD Weiden | Kreisverband - ECPv6.15.18//NONSGML v1.0//EN
CALSCALE:GREGORIAN
METHOD:PUBLISH
X-WR-CALNAME:AfD Weiden | Kreisverband
X-ORIGINAL-URL:https://afd-weiden.de
X-WR-CALDESC:Veranstaltungen für AfD Weiden | Kreisverband
REFRESH-INTERVAL;VALUE=DURATION:PT1H
X-Robots-Tag:noindex
X-PUBLISHED-TTL:PT1H
BEGIN:VTIMEZONE
TZID:Europe/Berlin
BEGIN:DAYLIGHT
TZOFFSETFROM:+0100
TZOFFSETTO:+0200
TZNAME:CEST
DTSTART:20230326T010000
END:DAYLIGHT
BEGIN:STANDARD
TZOFFSETFROM:+0200
TZOFFSETTO:+0100
TZNAME:CET
DTSTART:20231029T010000
END:STANDARD
BEGIN:DAYLIGHT
TZOFFSETFROM:+0100
TZOFFSETTO:+0200
TZNAME:CEST
DTSTART:20240331T010000
END:DAYLIGHT
BEGIN:STANDARD
TZOFFSETFROM:+0200
TZOFFSETTO:+0100
TZNAME:CET
DTSTART:20241027T010000
END:STANDARD
BEGIN:DAYLIGHT
TZOFFSETFROM:+0100
TZOFFSETTO:+0200
TZNAME:CEST
DTSTART:20250330T010000
END:DAYLIGHT
BEGIN:STANDARD
TZOFFSETFROM:+0200
TZOFFSETTO:+0100
TZNAME:CET
DTSTART:20251026T010000
END:STANDARD
END:VTIMEZONE
BEGIN:VEVENT
DTSTART;TZID=Europe/Berlin:20240903T200000
DTEND;TZID=Europe/Berlin:20240903T220000
DTSTAMP:20260421T162350
CREATED:20240821T064839Z
LAST-MODIFIED:20240821T064839Z
UID:132585-1725393600-1725400800@afd-weiden.de
SUMMARY:Infoabend - Linksextremismus - Straftaten\, Strukturen\, Finanzierung
DESCRIPTION:Einladung zum Bürgerdialog \nLiebe Mitglieder und interessierte Bürger\,\nder AfD Kreisverband Weiden lädt Sie herzlich zu einem informativen Bürgerdialog ein. \nWir freuen uns\, Wolfgang Dröse als Referenten begrüßen zu dürfen\, der über das brisante Thema: \n„Linksextremismus – Straftaten\, Strukturen\, Finanzierung“ sprechen wird. \nWann: Dienstag\, 3. Sep. 2024\, um 20 Uhr\nWo: Zum Alten Schuster\, Schustermooslohe 60\, 92637 Weiden \nSeien auch Sie dabei!\nNutzen Sie die Gelegenheit\, um Fragen zu stellen und sich aktiv an Diskussionen zu beteiligen. Gemeinsam möchten wir relevante Themen ansprechen und mögliche Lösungen erarbeiten. \nWir freuen uns auf Ihr Kommen! \nMit freundlichen Grüßen\,\nIhr AfD Kreisverband Weiden
URL:https://afd-weiden.de/veranstaltungen/infoabend-linksextremismus-straftaten-strukturen-finanzierung/
LOCATION:Zum Alten Schuster\, Weiden
CATEGORIES:Infoabend
ATTACH;FMTTYPE=image/png:https://afd-weiden.de/wp-content/uploads/2024/08/AfD-Weiden-Buergerdialog-am-03.09.2024-Linksextremismus-mit-Wolfgang-Droese.png
ORGANIZER;CN="AfD Kreisverband Weiden":MAILTO:info@weiden.devseite.top
END:VEVENT
END:VCALENDAR