BEGIN:VCALENDAR
VERSION:2.0
PRODID:-//AfD Weiden | Kreisverband - ECPv6.15.18//NONSGML v1.0//EN
CALSCALE:GREGORIAN
METHOD:PUBLISH
X-ORIGINAL-URL:https://afd-weiden.de
X-WR-CALDESC:Veranstaltungen für AfD Weiden | Kreisverband
REFRESH-INTERVAL;VALUE=DURATION:PT1H
X-Robots-Tag:noindex
X-PUBLISHED-TTL:PT1H
BEGIN:VTIMEZONE
TZID:Europe/Berlin
BEGIN:DAYLIGHT
TZOFFSETFROM:+0100
TZOFFSETTO:+0200
TZNAME:CEST
DTSTART:20230326T010000
END:DAYLIGHT
BEGIN:STANDARD
TZOFFSETFROM:+0200
TZOFFSETTO:+0100
TZNAME:CET
DTSTART:20231029T010000
END:STANDARD
BEGIN:DAYLIGHT
TZOFFSETFROM:+0100
TZOFFSETTO:+0200
TZNAME:CEST
DTSTART:20240331T010000
END:DAYLIGHT
BEGIN:STANDARD
TZOFFSETFROM:+0200
TZOFFSETTO:+0100
TZNAME:CET
DTSTART:20241027T010000
END:STANDARD
BEGIN:DAYLIGHT
TZOFFSETFROM:+0100
TZOFFSETTO:+0200
TZNAME:CEST
DTSTART:20250330T010000
END:DAYLIGHT
BEGIN:STANDARD
TZOFFSETFROM:+0200
TZOFFSETTO:+0100
TZNAME:CET
DTSTART:20251026T010000
END:STANDARD
END:VTIMEZONE
BEGIN:VEVENT
DTSTART;TZID=Europe/Berlin:20240719T100000
DTEND;TZID=Europe/Berlin:20240719T130000
DTSTAMP:20260421T193109
CREATED:20240717T131406Z
LAST-MODIFIED:20240717T132526Z
UID:132529-1721383200-1721394000@afd-weiden.de
SUMMARY:Infostand in Kemnath am 19.07.2024
DESCRIPTION:ℹ️ Infostand in Kemnath am 19.07.2024 \nAm Freitag\, 19.07.2024 sind wir von 10 bis 13 Uhr für euch in Kemnath\, am Stadtplatz. \nKommt zu uns und informiert euch aus erster Hand. \nEuer AfD Kreisverband Weiden\, Oberpfalz \n🇩🇪TEILEN🇩🇪LIKEN🇩🇪ABONNIEREN🇩🇪 \n👍 https://t.me/afdweiden \nFolgt uns auch auf: \n🟦Facebook\nhttps://www.facebook.com/afd.weiden/ \n🟩WhatsApp:\nhttps://whatsapp.com/channel/0029VaXcPaR8KMqmI82DFy2c \n⬛️Twitter:\nhttps://twitter.com/AfD_KV_Weiden \n🟪TikTok:\nhttps://www.tiktok.com/@afd.weiden \n🟥Youtube:\nhttps://www.youtube.com/@AfDWeidenidOPf \n🟪Instagram:\nhttps://www.instagram.com/afd_weiden_in_der_oberpfalz/
URL:https://afd-weiden.de/veranstaltungen/infostand-in-kemnath-am-19-07-2024/
LOCATION:Kemnath\, Stadtplatz
CATEGORIES:Infostand
ATTACH;FMTTYPE=image/png:https://afd-weiden.de/wp-content/uploads/2024/07/AfD-Weiden-Infostand-in-Kemnath-19.07.2023.png
ORGANIZER;CN="AfD Kreisverband Weiden":MAILTO:info@weiden.devseite.top
END:VEVENT
END:VCALENDAR