BEGIN:VCALENDAR
VERSION:2.0
PRODID:-//AfD Weiden | Kreisverband - ECPv6.15.18//NONSGML v1.0//EN
CALSCALE:GREGORIAN
METHOD:PUBLISH
X-ORIGINAL-URL:https://afd-weiden.de
X-WR-CALDESC:Veranstaltungen für AfD Weiden | Kreisverband
REFRESH-INTERVAL;VALUE=DURATION:PT1H
X-Robots-Tag:noindex
X-PUBLISHED-TTL:PT1H
BEGIN:VTIMEZONE
TZID:Europe/Berlin
BEGIN:DAYLIGHT
TZOFFSETFROM:+0100
TZOFFSETTO:+0200
TZNAME:CEST
DTSTART:20230326T010000
END:DAYLIGHT
BEGIN:STANDARD
TZOFFSETFROM:+0200
TZOFFSETTO:+0100
TZNAME:CET
DTSTART:20231029T010000
END:STANDARD
BEGIN:DAYLIGHT
TZOFFSETFROM:+0100
TZOFFSETTO:+0200
TZNAME:CEST
DTSTART:20240331T010000
END:DAYLIGHT
BEGIN:STANDARD
TZOFFSETFROM:+0200
TZOFFSETTO:+0100
TZNAME:CET
DTSTART:20241027T010000
END:STANDARD
BEGIN:DAYLIGHT
TZOFFSETFROM:+0100
TZOFFSETTO:+0200
TZNAME:CEST
DTSTART:20250330T010000
END:DAYLIGHT
BEGIN:STANDARD
TZOFFSETFROM:+0200
TZOFFSETTO:+0100
TZNAME:CET
DTSTART:20251026T010000
END:STANDARD
END:VTIMEZONE
BEGIN:VEVENT
DTSTART;TZID=Europe/Berlin:20240703T080000
DTEND;TZID=Europe/Berlin:20240703T170000
DTSTAMP:20260421T193139
CREATED:20240703T174625Z
LAST-MODIFIED:20240703T174625Z
UID:132503-1719993600-1720026000@afd-weiden.de
SUMMARY:Stammtisch + Bericht vom Bundesparteitag und Berlin
DESCRIPTION:Offener politischer Stammtisch: \nDiesen Donnerstag berichtet Manfred Schiller über Bundesparteitag der AfD sowie von seinem Besuch bei der AfD-Bundestagsfraktion in Berlin. \nKommt zu uns und informiert euch aus erster Hand. \n📅 Wann? Jeden Donnerstag \n🕖 Uhrzeit? Ab 18:00 Uhr \n📍 Wo? AfD Büro Weiden\, Christian-Seltmann-Straße 21\, 92637 Weiden \nUnser Stammtisch ist für alle Mitglieder und Interessierten offen – egal\, ob ihr bereits politisch aktiv seid oder einfach nur neugierig. \nKommt vorbei\, bringt eure Freunde mit und lasst uns gemeinsam einen Abend voller interessanter Gespräche verbringen. Eine Anmeldung ist nicht erforderlich – schaut einfach vorbei\, wenn ihr Zeit und Lust habt! \nWer will\, kann auch Mitglied werden. \nWir freuen uns auf euch!
URL:https://afd-weiden.de/veranstaltungen/stammtisch-bericht-vom-bundesparteitag-und-berlin/
LOCATION:Christian-Seltmann-Straße 21\, 92637 Weiden\, Christian-Seltmann-Straße 21\, Weiden\, Bayern\, 92637\, Germany
CATEGORIES:Stammtisch
ATTACH;FMTTYPE=image/png:https://afd-weiden.de/wp-content/uploads/2024/07/AfD-Weiden-Stammtisch-04-07-2024.png
ORGANIZER;CN="AfD Kreisverband Weiden":MAILTO:info@weiden.devseite.top
END:VEVENT
END:VCALENDAR