BEGIN:VCALENDAR
VERSION:2.0
PRODID:-//AfD Weiden | Kreisverband - ECPv6.15.18//NONSGML v1.0//EN
CALSCALE:GREGORIAN
METHOD:PUBLISH
X-WR-CALNAME:AfD Weiden | Kreisverband
X-ORIGINAL-URL:https://afd-weiden.de
X-WR-CALDESC:Veranstaltungen für AfD Weiden | Kreisverband
REFRESH-INTERVAL;VALUE=DURATION:PT1H
X-Robots-Tag:noindex
X-PUBLISHED-TTL:PT1H
BEGIN:VTIMEZONE
TZID:Europe/Berlin
BEGIN:DAYLIGHT
TZOFFSETFROM:+0100
TZOFFSETTO:+0200
TZNAME:CEST
DTSTART:20230326T010000
END:DAYLIGHT
BEGIN:STANDARD
TZOFFSETFROM:+0200
TZOFFSETTO:+0100
TZNAME:CET
DTSTART:20231029T010000
END:STANDARD
BEGIN:DAYLIGHT
TZOFFSETFROM:+0100
TZOFFSETTO:+0200
TZNAME:CEST
DTSTART:20240331T010000
END:DAYLIGHT
BEGIN:STANDARD
TZOFFSETFROM:+0200
TZOFFSETTO:+0100
TZNAME:CET
DTSTART:20241027T010000
END:STANDARD
BEGIN:DAYLIGHT
TZOFFSETFROM:+0100
TZOFFSETTO:+0200
TZNAME:CEST
DTSTART:20250330T010000
END:DAYLIGHT
BEGIN:STANDARD
TZOFFSETFROM:+0200
TZOFFSETTO:+0100
TZNAME:CET
DTSTART:20251026T010000
END:STANDARD
END:VTIMEZONE
BEGIN:VEVENT
DTSTART;TZID=Europe/Berlin:20240308T190000
DTEND;TZID=Europe/Berlin:20240308T210000
DTSTAMP:20260422T020224
CREATED:20240224T180737Z
LAST-MODIFIED:20240224T181438Z
UID:132182-1709924400-1709931600@afd-weiden.de
SUMMARY:Schicksalsfrage Migration
DESCRIPTION:🌐 Politische Veranstaltung mit Bernhard Zimniok\, Mitglied des Europäischen Parlaments! 🗳\n\n\n \n\n\n📅 Datum: 08.03.2024\n\n\n🕖 Uhrzeit: 19:00 Uhr\n\n\n📍 Ort: Zum Alten Schuster\, Schustermooslohe 60\, 92637 Weiden\n\n\n \n\n\nWir laden herzlich zur Diskussion über die Schicksalsfrage Migration ein! 🌍💬 Sei dabei\, wenn Bernhard Zimniok\, erfahrener Abgeordneter im Europäischen Parlament\, wichtige Einblicke und Perspektiven teilt.\n\n\n \n\n\n🗣 Deine Meinung zählt! Gemeinsam wollen wir Lösungen finden und die Zukunft gestalten. \n\n\n \n\n\nUm Voranmeldung wird gebeten – sende eine Email an: info@weiden.devseite.top\n\n\n \n\n\nSei Teil des Dialogs\, sei Teil der Veränderung! 🇪🇺🤝 \n\n\n \n\n\n#Politik #Migration #EuropäischesParlament #ZukunftGestalten #BernhardZimniok #AFDWeiden #Diskussion #Demokratie
URL:https://afd-weiden.de/veranstaltungen/schicksalsfrage-migration/
CATEGORIES:Infoabend
ATTACH;FMTTYPE=image/png:https://afd-weiden.de/wp-content/uploads/2024/02/Einladung-Weiden-Schicksalsfrage-Migration_2.png
ORGANIZER;CN="AfD Kreisverband Weiden":MAILTO:info@weiden.devseite.top
END:VEVENT
END:VCALENDAR